BEGIN:VCALENDAR
VERSION:2.0
PRODID:-//FARM Training Center - ECPv6.13.2.1//NONSGML v1.0//EN
CALSCALE:GREGORIAN
METHOD:PUBLISH
X-WR-CALNAME:FARM Training Center
X-ORIGINAL-URL:https://www.farmtrainingcenter.com
X-WR-CALDESC:Events for FARM Training Center
REFRESH-INTERVAL;VALUE=DURATION:PT1H
X-Robots-Tag:noindex
X-PUBLISHED-TTL:PT1H
BEGIN:VTIMEZONE
TZID:America/Denver
BEGIN:DAYLIGHT
TZOFFSETFROM:-0700
TZOFFSETTO:-0600
TZNAME:MDT
DTSTART:20250309T090000
END:DAYLIGHT
BEGIN:STANDARD
TZOFFSETFROM:-0600
TZOFFSETTO:-0700
TZNAME:MST
DTSTART:20251102T080000
END:STANDARD
END:VTIMEZONE
BEGIN:VEVENT
DTSTART;TZID=America/Denver:20250503T080000
DTEND;TZID=America/Denver:20250503T170000
DTSTAMP:20260423T203048
CREATED:20250302T035213Z
LAST-MODIFIED:20250327T193451Z
UID:19740-1746259200-1746291600@www.farmtrainingcenter.com
SUMMARY:UDPL - Multi-Gun Match
DESCRIPTION:Join us at The FARM Training Center for the exciting return of UDPL’s Multi-Gun Match!\nAfter a brief hiatus\, UDPL is back and better than ever with a fresh match director and a renewed focus on delivering a fun\, challenging\, and safe shooting experience for everyone. Whether you’re a seasoned competitor or brand new to multi-gun\, this match is designed to offer something for everyone! \n\nCompetitor Slots: 60\nStages: 5+ diverse and engaging stages testing rifle\, shotgun\, and pistol skills\n\nDivisions:\n\n3-Gun Divisions (Rifle\, Shotgun\, Pistol)\n2-Gun Division (Rifle\, Pistol)\n\nRound Count (Plan Accordingly):\n\nRifle: 75 rounds (Expect paper targets requiring 2 hits each\, plus a rifle spinner and long-range targets from 200 to 400 yards.)\nShotgun: 40 rounds (Birdshot only — no slugs or buckshot.)\nPistol:\n\n3-Gun Divisions: 70 rounds\n2-Gun Division: 110 rounds\n\n\n\nNew to Competition? We welcome new shooters! Our match staff and experienced competitors are happy to answer questions and help you feel comfortable throughout the day. This is a fantastic way to experience the excitement of multi-gun in a supportive environment. \nQuestions?\nReach out to us on the UDPL Facebook Group: https://www.facebook.com/groups/104429186260375 \nRegister on Practiscore – we will update the link once it goes live. \nCome out\, test your skills\, and join the fun — we can’t wait to see you on the range!
URL:https://www.farmtrainingcenter.com/event/udpl-multi-gun-match/
LOCATION:FARM\, 6V9F+F6 Fairfield\, Utah\, 84013\, United States
CATEGORIES:Competition,Pistol,Rifle,Shotgun
ATTACH;FMTTYPE=image/jpeg:https://www.farmtrainingcenter.com/wp-content/uploads/2025/02/465598872_10231174091008439_1234350532725663370_n-e1739945969280.jpg
END:VEVENT
END:VCALENDAR