BEGIN:VCALENDAR
VERSION:2.0
PRODID:-//FARM Training Center - ECPv6.13.2.1//NONSGML v1.0//EN
CALSCALE:GREGORIAN
METHOD:PUBLISH
X-WR-CALNAME:FARM Training Center
X-ORIGINAL-URL:https://www.farmtrainingcenter.com
X-WR-CALDESC:Events for FARM Training Center
REFRESH-INTERVAL;VALUE=DURATION:PT1H
X-Robots-Tag:noindex
X-PUBLISHED-TTL:PT1H
BEGIN:VTIMEZONE
TZID:America/Denver
BEGIN:DAYLIGHT
TZOFFSETFROM:-0700
TZOFFSETTO:-0600
TZNAME:MDT
DTSTART:20240310T090000
END:DAYLIGHT
BEGIN:STANDARD
TZOFFSETFROM:-0600
TZOFFSETTO:-0700
TZNAME:MST
DTSTART:20241103T080000
END:STANDARD
END:VTIMEZONE
BEGIN:VEVENT
DTSTART;VALUE=DATE:20240907
DTEND;VALUE=DATE:20240909
DTSTAMP:20260419T174029
CREATED:20231220T183630Z
LAST-MODIFIED:20231220T183630Z
UID:19039-1725667200-1725839999@www.farmtrainingcenter.com
SUMMARY:TTG - The Tactical Games Regional
DESCRIPTION:A two day fitness and marksmanship competition\nLearn more about the Team Division here: TTG Blog \nRefund Policy:\nNo refunds are offered unless proof of military orders are provided. We offer deferrals up to 21 days ahead of competition. Inside of 21 days\, a 50% credit will be applied to a future event entry fee.For information about our refund and deferral policy please visit https://www.thetacticalgames.com/faqs/ \nVolunteer:\nVolunteer Credits – Volunteers will receive Under Armour swag bag and free event entry. Please review eligibility requirements below: \n\nNo more than two volunteer credits may be used per calendar year.\nVolunteers must be present at the event for a minimum of two days to be eligible for a match credit.\nVolunteers slot redemptions are limited to 20 per match.\nVolunteer Credits do NOT transfer to other competitors/friends/spouses.\nVolunteer Credits do NOT apply to the National Championship event.\nVolunteer Credits are good for one calendar year from the date of volunteering. Example\, If Val volunteered on May 1-2nd\, 2022\, the code is no longer valid for any events after May 1-2\, 2023\, and must be redeemed before that date.
URL:https://www.farmtrainingcenter.com/event/ttg-the-tactical-games-regional/
LOCATION:FARM\, 6V9F+F6 Fairfield\, Utah\, 84013\, United States
CATEGORIES:Competition,Fitness
ATTACH;FMTTYPE=image/jpeg:https://www.farmtrainingcenter.com/wp-content/uploads/2023/12/Tactical-Games-Utah-2023-7914-1568x1960-1.jpeg
ORGANIZER;CN="The Tacttical Games":MAILTO:info@thetacticalgames.com
END:VEVENT
END:VCALENDAR